BEGIN:VCALENDAR
PRODID:-//eluceo/ical//2.0/EN
VERSION:2.0
CALSCALE:GREGORIAN
BEGIN:VEVENT
UID:74c8b09a626b998967862063a2d0e94e
DTSTAMP:20260420T235809Z
SUMMARY:Erlebte Kirche
DESCRIPTION:Vernissage des neuen Buches von Peter Henrici SJ\nIn seinem neu
 sten Buch veröffentlicht der ehemalige Zürcher Generalvikar und Weihbisc
 hof Dr. Peter Henrici SJ nicht nur bereits publizierte\, sondern auch mehr
 ere unveröffentlichte Texte. Seine Beiträge machen sichtbar\, wie stark 
 Henrici\, der über 30 Jahre als Professor in Rom wirkte\, noch heute im "
 Geist des Konzils" denkt und welche Eigenschaften eine zukunftsfähige Kir
 che gerade auch im Bistum Chur braucht.\nOrt: aki (katholische Hochschulge
 meinde)\, Hirschengraben 86 in Zürich\; Beginn: 19.15 Uhr
URL:https://www.jesuitenbibliothek.ch/veranstaltungen-detail/erlebte-kirche
 -214
DTSTART:20190121T191500
DTEND:20190121T191500
LOCATION:aki (katholische Hochschulgemeinde)\, Hirschengraben 86 in Zürich
END:VEVENT
BEGIN:VTIMEZONE
TZID:Europe/Zurich
BEGIN:STANDARD
DTSTART:20190121T191500
TZNAME:CET
TZOFFSETTO:+0100
TZOFFSETFROM:+0100
END:STANDARD
END:VTIMEZONE
END:VCALENDAR
